BEGIN:VCALENDAR
VERSION:2.0
PRODID:-//The Venture Trails Collective - ECPv6.15.1.1//NONSGML v1.0//EN
CALSCALE:GREGORIAN
METHOD:PUBLISH
X-WR-CALNAME:The Venture Trails Collective
X-ORIGINAL-URL:https://venturetrailscollective.com
X-WR-CALDESC:Events for The Venture Trails Collective
REFRESH-INTERVAL;VALUE=DURATION:PT1H
X-Robots-Tag:noindex
X-PUBLISHED-TTL:PT1H
BEGIN:VTIMEZONE
TZID:UTC
BEGIN:STANDARD
TZOFFSETFROM:+0000
TZOFFSETTO:+0000
TZNAME:UTC
DTSTART:20210101T000000
END:STANDARD
END:VTIMEZONE
BEGIN:VEVENT
DTSTART;TZID=UTC:20211219T093000
DTEND;TZID=UTC:20211219T133000
DTSTAMP:20260423T155135
CREATED:20210914T060530Z
LAST-MODIFIED:20210914T060530Z
UID:879-1639906200-1639920600@venturetrailscollective.com
SUMMARY:Rail to Trail: Berkhamsted. Christmas edition!
DESCRIPTION:A festive 20km trail run in the beautiful Ashridge estate. All abilities welcome. Fancy dress strongly encouraged. Prizes for best dressed!\n\n\nJoin us for our annual Christmas run. 20km of Ashridge trails. All abilities welcome – there will be a group for you as long a you are prepared to try and run! \nFancy dress is strongly encouraged\, we’ll be giving prizes for the best dressed on the day! \nJoin us at Lovelo Cycleworks afterwards for a selection of pot-run Christmassy recovery treats!
URL:https://venturetrailscollective.com/event/rail-to-trail-berkhamsted-christmas-edition/
LOCATION:Lovelo Cycle Works\, 167 High Street #o\, Berkhamsted\, HP4 3HB\, Berkhamsted\, HP4 3HB\, GB
END:VEVENT
BEGIN:VEVENT
DTSTART;TZID=UTC:20211208T190000
DTEND;TZID=UTC:20211208T220000
DTSTAMP:20260423T155135
CREATED:20210913T122952Z
LAST-MODIFIED:20211124T134420Z
UID:860-1638990000-1639000800@venturetrailscollective.com
SUMMARY:The Venture Trails Collective - Ashridge
DESCRIPTION:The Venture Trails Collective – Ashridge\n\n\nFollow us through twisting forest tracks and over chalk downs as we show you the wilder corners of the Ashridge Estate and surrounding area. There are so many paths in the area that we can guarantee that you will never run the same route twice! This event is based at Lovelo\, Berkhamsted. Meet us there for a fully supported group run and join us afterwards at a local bar (subject to Covid-19 guidelines at the time of the event) to share your stories and ask any questions you may have of our expert team .  \nRunners will be pre assigned to a small  group\, with each group led by one of our experienced guides. We will ensure all entrants are assigned to a suitably paced group.  \nWe have allocated 20 tickets for this event. Overflow entrants will be placed on a waiting list. We will offer these entrants the option of a guided run experience on an alternative date when we have a clear idea of demand.  \nWhen? \nThe third Wednesday of every month. \n \nEvent Cost \n \n– £5 \n \nHow do I enter? \n \nTo give us an idea of numbers\, and so that we can tailor the evenings to you\, we ask you to pre-enter our event on Eventbrite (link below).  \n \nWhat’s included \n \n– Fully guided run from knowledgeable and experienced guides for approximately 60-90minutes. \n \nWhat’s not included \n \n– Drinks and/or bar snacks after the run. \n \nCommon Questions \n \nQ- What level of fitness do I need to take part? \n \nA- We will have a number of groups available on the night. We recommend that you can run at least 5 miles on the road for you to enjoy yourself fully. Most groups will take walking breaks if needed and no one will ever be left behind. Our groups are all run at a social pace and there will be lots of opportunities for you to learn the skills needed to improve your trail running. \n \nQ- What equipment do I need? \n \nA- The weather in Britain is very changeable as we all know so we strongly advise that you come for a run with us with that in mind. Ask yourself questions like. “Are we going to be running in the dark?” “How long are we going to be out for?” Here are some things that we recommend you bring for our mid week runs but all you really need is some common-sense. \n \n– Trail shoes are advised but in dry weather road shoes will be fine. \n \n– Wicking top and suitable shorts or leggings \n \n– Extra layer. you can get very cold on the trails even on nice days if you are forced to stop but use your common sense and dress appropriately for the time of the year. \n \n– We recommend you carry a light weight waterproof jacket \n \n– Warm or sun cap depending on weather \n \n– Sun cream \n \n– Water- around 250ml-500ml \n \n– Trail snacks \n \n– Map and compass of the area if you have one but our guides will have one or know the way \n \n– Fully charged phone in a waterproof bag \n \n– and of course a light weight running bag/vest to put it all in. \n \nThis  may seem intimidating but don’t let this stop you joining us. You will be running with experienced runners and really all you need is a pair of trainers and some common sense. \n \nQ – Parking ? \n \nA -There is plenty of  parking in and around Berkhamsted Village .  \n \nQ – Public transport ? \n \nA – Berkhamsted train station is around 1 mile away and is on the London Euston main line. This is a 20 minute walk on trails or road. If you want picking up we will do this free of charge with prior notice.
URL:https://venturetrailscollective.com/event/the-venture-trails-collective-ashridge-4/
LOCATION:Lovelo Cycle Works\, 167 High Street #o\, Berkhamsted\, HP4 3HB\, Berkhamsted\, HP4 3HB\, GB
ATTACH;FMTTYPE=image/jpeg:https://venturetrailscollective.com/wp-content/uploads/2021/09/848_image.jpg
END:VEVENT
BEGIN:VEVENT
DTSTART;TZID=UTC:20211117T190000
DTEND;TZID=UTC:20211117T220000
DTSTAMP:20260423T155135
CREATED:20210913T122915Z
LAST-MODIFIED:20210913T122915Z
UID:858-1637175600-1637186400@venturetrailscollective.com
SUMMARY:The Venture Trails Collective - Ashridge
DESCRIPTION:The Venture Trails Collective – Ashridge\n\n\nFollow us through twisting forest tracks and over chalk downs as we show you the wilder corners of the Ashridge Estate and surrounding area. There are so many paths in the area that we can guarantee that you will never run the same route twice! This event is based at Lovelo\, Berkhamsted. Meet us there for a fully supported group run and join us afterwards at a local bar (subject to Covid-19 guidelines at the time of the event) to share your stories and ask any questions you may have of our expert team .  \nRunners will be pre assigned to a small  group\, with each group led by one of our experienced guides. We will ensure all entrants are assigned to a suitably paced group.  \nWe have allocated 20 tickets for this event. Overflow entrants will be placed on a waiting list. We will offer these entrants the option of a guided run experience on an alternative date when we have a clear idea of demand.  \nWhen? \nThe third Wednesday of every month. \n \nEvent Cost \n \n– £5 \n \nHow do I enter? \n \nTo give us an idea of numbers\, and so that we can tailor the evenings to you\, we ask you to pre-enter our event on Eventbrite (link below).  \n \nWhat’s included \n \n– Fully guided run from knowledgeable and experienced guides for approximately 60-90minutes. \n \nWhat’s not included \n \n– Drinks and/or bar snacks after the run. \n \nCommon Questions \n \nQ- What level of fitness do I need to take part? \n \nA- We will have a number of groups available on the night. We recommend that you can run at least 5 miles on the road for you to enjoy yourself fully. Most groups will take walking breaks if needed and no one will ever be left behind. Our groups are all run at a social pace and there will be lots of opportunities for you to learn the skills needed to improve your trail running. \n \nQ- What equipment do I need? \n \nA- The weather in Britain is very changeable as we all know so we strongly advise that you come for a run with us with that in mind. Ask yourself questions like. “Are we going to be running in the dark?” “How long are we going to be out for?” Here are some things that we recommend you bring for our mid week runs but all you really need is some common-sense. \n \n– Trail shoes are advised but in dry weather road shoes will be fine. \n \n– Wicking top and suitable shorts or leggings \n \n– Extra layer. you can get very cold on the trails even on nice days if you are forced to stop but use your common sense and dress appropriately for the time of the year. \n \n– We recommend you carry a light weight waterproof jacket \n \n– Warm or sun cap depending on weather \n \n– Sun cream \n \n– Water- around 250ml-500ml \n \n– Trail snacks \n \n– Map and compass of the area if you have one but our guides will have one or know the way \n \n– Fully charged phone in a waterproof bag \n \n– and of course a light weight running bag/vest to put it all in. \n \nThis  may seem intimidating but don’t let this stop you joining us. You will be running with experienced runners and really all you need is a pair of trainers and some common sense. \n \nQ – Parking ? \n \nA -There is plenty of  parking in and around Berkhamsted Village .  \n \nQ – Public transport ? \n \nA – Berkhamsted train station is around 1 mile away and is on the London Euston main line. This is a 20 minute walk on trails or road. If you want picking up we will do this free of charge with prior notice.
URL:https://venturetrailscollective.com/event/the-venture-trails-collective-ashridge-3/
LOCATION:Aldbury pond\, Stocks Road\, Aldbury\, HP23 5RT\, Aldbury\, HP23 5RT\, GB
ATTACH;FMTTYPE=image/jpeg:https://venturetrailscollective.com/wp-content/uploads/2021/09/848_image.jpg
END:VEVENT
BEGIN:VEVENT
DTSTART;TZID=UTC:20211107T093000
DTEND;TZID=UTC:20211107T130000
DTSTAMP:20260423T155135
CREATED:20210913T133605Z
LAST-MODIFIED:20210913T133700Z
UID:874-1636277400-1636290000@venturetrailscollective.com
SUMMARY:Rail to Trail: Wendover
DESCRIPTION:A 20km guided run around the Wendover area. Big views and beautiful Chiltern woodland guaranteed. All abilities welcome.\n\n\nJoin us at Wendover rail station for a 20km Chiltern trail running adventure. We’ll be taking in big Chiltern views and ancient woodland. One of our favourite locations! \nYou’ll be led by one of our expert guides at a pace that’s comfortable for you. All abilities are welcome as long as you come prepared to try and run!
URL:https://venturetrailscollective.com/event/rail-to-trail-wendover/
LOCATION:Wendover Train Station\, Wendover Train Station\, Wendover\, HP22 6BT\, Wendover\, HP22 6BT\, GB
END:VEVENT
BEGIN:VEVENT
DTSTART;TZID=UTC:20211103T190000
DTEND;TZID=UTC:20211103T220000
DTSTAMP:20260423T155135
CREATED:20210928T121747Z
LAST-MODIFIED:20210928T121747Z
UID:895-1635966000-1635976800@venturetrailscollective.com
SUMMARY:The Venture Trails Collective - Ashridge
DESCRIPTION:The Venture Trails Collective – Ashridge\n\n\nFollow us through twisting forest tracks and over chalk downs as we show you the wilder corners of the Ashridge Estate and surrounding area. There are so many paths in the area that we can guarantee that you will never run the same route twice! This event is based at Lovelo\, Berkhamsted. Meet us there for a fully supported group run and join us afterwards at a local bar (subject to Covid-19 guidelines at the time of the event) to share your stories and ask any questions you may have of our expert team .  \nRunners will be pre assigned to a small  group\, with each group led by one of our experienced guides. We will ensure all entrants are assigned to a suitably paced group.  \nWe have allocated 20 tickets for this event. Overflow entrants will be placed on a waiting list. We will offer these entrants the option of a guided run experience on an alternative date when we have a clear idea of demand.  \nWhen? \nThe third Wednesday of every month. \n \nEvent Cost \n \n– £5 \n \nHow do I enter? \n \nTo give us an idea of numbers\, and so that we can tailor the evenings to you\, we ask you to pre-enter our event on Eventbrite (link below).  \n \nWhat’s included \n \n– Fully guided run from knowledgeable and experienced guides for approximately 60-90minutes. \n \nWhat’s not included \n \n– Drinks and/or bar snacks after the run. \n \nCommon Questions \n \nQ- What level of fitness do I need to take part? \n \nA- We will have a number of groups available on the night. We recommend that you can run at least 5 miles on the road for you to enjoy yourself fully. Most groups will take walking breaks if needed and no one will ever be left behind. Our groups are all run at a social pace and there will be lots of opportunities for you to learn the skills needed to improve your trail running. \n \nQ- What equipment do I need? \n \nA- The weather in Britain is very changeable as we all know so we strongly advise that you come for a run with us with that in mind. Ask yourself questions like. “Are we going to be running in the dark?” “How long are we going to be out for?” Here are some things that we recommend you bring for our mid week runs but all you really need is some common-sense. \n \n– Trail shoes are advised but in dry weather road shoes will be fine. \n \n– Wicking top and suitable shorts or leggings \n \n– Extra layer. you can get very cold on the trails even on nice days if you are forced to stop but use your common sense and dress appropriately for the time of the year. \n \n– We recommend you carry a light weight waterproof jacket \n \n– Warm or sun cap depending on weather \n \n– Sun cream \n \n– Water- around 250ml-500ml \n \n– Trail snacks \n \n– Map and compass of the area if you have one but our guides will have one or know the way \n \n– Fully charged phone in a waterproof bag \n \n– and of course a light weight running bag/vest to put it all in. \n \nThis  may seem intimidating but don’t let this stop you joining us. You will be running with experienced runners and really all you need is a pair of trainers and some common sense. \n \nQ – Parking ? \n \nA -There is plenty of  parking in and around Berkhamsted Village .  \n \nQ – Public transport ? \n \nA – Berkhamsted train station is around 1 mile away and is on the London Euston main line. This is a 20 minute walk on trails or road. If you want picking up we will do this free of charge with prior notice.
URL:https://venturetrailscollective.com/event/the-venture-trails-collective-ashridge-2/
LOCATION:Aldbury pond\, Stocks Road\, Aldbury\, HP23 5RT\, Aldbury\, HP23 5RT\, GB
ATTACH;FMTTYPE=image/jpeg:https://venturetrailscollective.com/wp-content/uploads/2021/09/848_image.jpg
END:VEVENT
BEGIN:VEVENT
DTSTART;TZID=UTC:20211017T093000
DTEND;TZID=UTC:20211017T130000
DTSTAMP:20260423T155135
CREATED:20210915T063903Z
LAST-MODIFIED:20210915T063903Z
UID:890-1634463000-1634475600@venturetrailscollective.com
SUMMARY:Rail to Trail Amersham to Great Missenden
DESCRIPTION:A 20km point to point guided trail run in the heart of the Chilterns.\n\n\nJoin us at Amersham rail station for a unique 20km  of guided trail running.  We’ll be leading you through some of the highlights of the Chilterns as we run from point to point between Amersham and Great Missenden\, using public transport to return to our starting point.  All runners are welcome whatever their ability\, all we ask is that you come with the intention of running! Our team of guides are extremely experienced trail runners. Come and join our community\, try something a bit different and discover what Venture is all about.
URL:https://venturetrailscollective.com/event/rail-to-trail-amersham-to-great-missenden/
LOCATION:Amersham Railway Station\, Station Approach\, Amersham\, HP6 5AZ\, Amersham\, HP6 5AZ\, GB
END:VEVENT
BEGIN:VEVENT
DTSTART;TZID=UTC:20211013T190000
DTEND;TZID=UTC:20211013T220000
DTSTAMP:20260423T155135
CREATED:20210913T123053Z
LAST-MODIFIED:20210913T123053Z
UID:862-1634151600-1634162400@venturetrailscollective.com
SUMMARY:The Venture trails Collective - Amersham
DESCRIPTION:Venture Trails Collective Amersham\n\n\nJoin The Venture Trail Collective Amersham and let us show you around the amazing and historic Chiltern Hills. Our experienced and qualified team will guide you along the chalk downlands and lush meadows of the Chilterns. We believe this is one of the finest trail running areas in the country and we want to share this with you. Our evening events have an emphasis on friendly and sociable running. All runners will be assigned to a group reflecting their ability and no one will ever be left behind! After the run\, we invite you t. We hope you will share your stories with us and take the opportunity to get to know our knowledgeable and qualified team. There will be hot and cold drinks available to purchase and a selection of bar snacks. \n \nEvent Cost \n \n– £5 \n \nHow do I enter? \n \nTo give us an idea of numbers\, and so that we can tailor the evenings to you\, we ask you to pre-enter our event on Eventbrite (link below). Entries close WHEN? \n \nWhat’s included \n \n– Fully guided run from knowledgeable and experienced guides for approximately a hour and a half. \n \n– Free Parking (or free pick up from Amersham train station if booked in advanced) \n \nWhat’s not included \n \n– Drinks and bar snacks in the TBA pub after the run. \n \nCommon Questions \n \nQ- What level of fitness do I need to take part? \n \nA- We will have a number of groups available on the night. We recommend that you can run at least 5 miles on the road for you to enjoy yourself fully. Most groups will take walking breaks if needed and no one will ever be left behind. Our groups are all run at a social pace and there will be lots of opportunities for you to learn the skills needed to improve your trail running. \n \nQ- What equipment do I need? \n \nA- The weather in Britain is very changeable as we all know so we strongly advise that you come for a run with us with that in mind. Ask yourself questions like. “Are we going to be running in the dark?” “How long are we going to be out for?” Here are some things that we recommend you bring for our mid week runs but all you really need is some common-sense. \n \n– Trail shoes are advised but in dry weather road shoes will be fine. \n \n– Wicking top and suitable shorts or leggings \n \n– Extra layer. you can get very cold on the trails even on nice days if you are forced to stop but use your common sense and dress appropriately for the time of the year. \n \n– We recommend you carry a light weight waterproof jacket \n \n– Warm or sun cap depending on weather \n \n– Sun cream \n \n– Water- around 250ml-500ml \n \n– Trail snacks \n \n– Map and compass of the area if you have one but our guides will have one or know the way \n \n– Fully charged phone in a waterproof bag \n \n– and of course a light weight running bag/vest to put it all in. \n \nThe may seem intimidating but don’t let this stop you joining us. You will be running with experienced runners and really all you need is a pair of trainers and some common sense. \n \nQ – Parking ? \n \nA -There is plenty of free parking in and around Amersham Old Town . If you cant find a space there is a public carpark that is free after 6pm just of the high street. (HP70HL)
URL:https://venturetrailscollective.com/event/the-venture-trails-collective-amersham/
LOCATION:Market Square\, 19 Market Square\, amersham\, hp70dg\, amersham\, hp70dg\, GB
ATTACH;FMTTYPE=image/jpeg:https://venturetrailscollective.com/wp-content/uploads/2021/09/844_image.jpg
END:VEVENT
BEGIN:VEVENT
DTSTART;TZID=UTC:20210922T190000
DTEND;TZID=UTC:20210922T220000
DTSTAMP:20260423T155135
CREATED:20210913T122745Z
LAST-MODIFIED:20210913T122745Z
UID:854-1632337200-1632348000@venturetrailscollective.com
SUMMARY:The Venture Trails Collective - Ashridge
DESCRIPTION:The Venture Trails Collective – Ashridge\n\n\nFollow us through twisting forest tracks and over chalk downs as we show you the wilder corners of the Ashridge Estate and surrounding area. There are so many paths in the area that we can guarantee that you will never run the same route twice! This event is based at Lovelo\, Berkhamsted. Meet us there for a fully supported group run and join us afterwards at a local bar (subject to Covid-19 guidelines at the time of the event) to share your stories and ask any questions you may have of our expert team .  \nRunners will be pre assigned to a small  group\, with each group led by one of our experienced guides. We will ensure all entrants are assigned to a suitably paced group.  \nWe have allocated 20 tickets for this event. Overflow entrants will be placed on a waiting list. We will offer these entrants the option of a guided run experience on an alternative date when we have a clear idea of demand.  \nWhen? \nThe third Wednesday of every month. \n \nEvent Cost \n \n– £5 \n \nHow do I enter? \n \nTo give us an idea of numbers\, and so that we can tailor the evenings to you\, we ask you to pre-enter our event on Eventbrite (link below).  \n \nWhat’s included \n \n– Fully guided run from knowledgeable and experienced guides for approximately 60-90minutes. \n \nWhat’s not included \n \n– Drinks and/or bar snacks after the run. \n \nCommon Questions \n \nQ- What level of fitness do I need to take part? \n \nA- We will have a number of groups available on the night. We recommend that you can run at least 5 miles on the road for you to enjoy yourself fully. Most groups will take walking breaks if needed and no one will ever be left behind. Our groups are all run at a social pace and there will be lots of opportunities for you to learn the skills needed to improve your trail running. \n \nQ- What equipment do I need? \n \nA- The weather in Britain is very changeable as we all know so we strongly advise that you come for a run with us with that in mind. Ask yourself questions like. “Are we going to be running in the dark?” “How long are we going to be out for?” Here are some things that we recommend you bring for our mid week runs but all you really need is some common-sense. \n \n– Trail shoes are advised but in dry weather road shoes will be fine. \n \n– Wicking top and suitable shorts or leggings \n \n– Extra layer. you can get very cold on the trails even on nice days if you are forced to stop but use your common sense and dress appropriately for the time of the year. \n \n– We recommend you carry a light weight waterproof jacket \n \n– Warm or sun cap depending on weather \n \n– Sun cream \n \n– Water- around 250ml-500ml \n \n– Trail snacks \n \n– Map and compass of the area if you have one but our guides will have one or know the way \n \n– Fully charged phone in a waterproof bag \n \n– and of course a light weight running bag/vest to put it all in. \n \nThis  may seem intimidating but don’t let this stop you joining us. You will be running with experienced runners and really all you need is a pair of trainers and some common sense. \n \nQ – Parking ? \n \nA -There is plenty of  parking in and around Berkhamsted Village .  \n \nQ – Public transport ? \n \nA – Berkhamsted train station is around 1 mile away and is on the London Euston main line. This is a 20 minute walk on trails or road. If you want picking up we will do this free of charge with prior notice.
URL:https://venturetrailscollective.com/event/the-venture-trails-collective-ashridge/
LOCATION:Aldbury pond\, Stocks Road\, Aldbury\, HP23 5RT\, Aldbury\, HP23 5RT\, GB
ATTACH;FMTTYPE=image/jpeg:https://venturetrailscollective.com/wp-content/uploads/2021/09/848_image.jpg
END:VEVENT
END:VCALENDAR